BEGIN:VCALENDAR
VERSION:2.0
PRODID:-//Slow Food Hong Kong - ECPv6.15.20//NONSGML v1.0//EN
CALSCALE:GREGORIAN
METHOD:PUBLISH
X-ORIGINAL-URL:https://slowfood.com.hk
X-WR-CALDESC:Events for Slow Food Hong Kong
REFRESH-INTERVAL;VALUE=DURATION:PT1H
X-Robots-Tag:noindex
X-PUBLISHED-TTL:PT1H
BEGIN:VTIMEZONE
TZID:Asia/Hong_Kong
BEGIN:STANDARD
TZOFFSETFROM:+0800
TZOFFSETTO:+0800
TZNAME:HKT
DTSTART:20240101T000000
END:STANDARD
END:VTIMEZONE
BEGIN:VEVENT
DTSTART;TZID=Asia/Hong_Kong:20251206T143000
DTEND;TZID=Asia/Hong_Kong:20251206T170000
DTSTAMP:20260426T003032
CREATED:20251111T031025Z
LAST-MODIFIED:20251111T031025Z
UID:3869-1765031400-1765040400@slowfood.com.hk
SUMMARY:Slow Food Farms Tour in Kam Tin\, Hong Kong
DESCRIPTION:Experience two regenerative Slow Food Farms in Kam Tin\, Hong Kong\, with a guided tour and hands-on activities – it’s a family-friendly event! \n \nEarlier this year\, Slow Food Hong Kong welcomed its first Slow Food Farms. Here’s your chance to visit two of them! \nOn this tour\, we’ll be visiting Organic Farmula and R-Farm in Kam Tin. You’ll learn first hand from farmers about what it takes to farm regeneratively in Hong Kong\, what is farmed\, when\, and how. \n \nAt Organic Farmula\, one of Hong Kong’s larger regenerative farms (1.65 acres)\, you might be able to try your hand at composting\, mulching and applying bioactive plant nutrients (depending on the farm’s needs on the day). After that\, we’ll head to neighbouring R-Farm\, another local regenerative farm that runs a CSA subscription programme. \n \nWhat is Slow Food Farms? \nAligned with Slow Food’s philosophy that everyone deserves access to nourishing food that supports communities\, honors the Earth and strengthens local economies\, these farms embody the future of sustainable agriculture. \nDetails: \nDate: Saturday 6 December\, 2:30-5pm \nLocation: Tsat Sing Kong Village\, Kam Tin\, New Territories\, Hong Kong (for exact meeting point\, see here) \nPrice: $100 per person (free for ages 5 and under) \nGet your ticket on Eventbrite!
URL:https://slowfood.com.hk/event/slow-food-farms-tour-in-kam-tin-hong-kong/
CATEGORIES:Event,Local Food Producer Visit
ATTACH;FMTTYPE=image/jpeg:https://slowfood.com.hk/wp-content/uploads/2025/11/29-JAN-25-4a-2-3-scaled.jpg
END:VEVENT
END:VCALENDAR