BEGIN:VCALENDAR
VERSION:2.0
PRODID:-//Slow Food Hong Kong - ECPv6.15.20//NONSGML v1.0//EN
CALSCALE:GREGORIAN
METHOD:PUBLISH
X-WR-CALNAME:Slow Food Hong Kong
X-ORIGINAL-URL:https://slowfood.com.hk
X-WR-CALDESC:Events for Slow Food Hong Kong
REFRESH-INTERVAL;VALUE=DURATION:PT1H
X-Robots-Tag:noindex
X-PUBLISHED-TTL:PT1H
BEGIN:VTIMEZONE
TZID:Asia/Hong_Kong
BEGIN:STANDARD
TZOFFSETFROM:+0800
TZOFFSETTO:+0800
TZNAME:HKT
DTSTART:20250101T000000
END:STANDARD
END:VTIMEZONE
BEGIN:VEVENT
DTSTART;TZID=Asia/Hong_Kong:20260511T103000
DTEND;TZID=Asia/Hong_Kong:20260511T123000
DTSTAMP:20260423T232216
CREATED:20260413T020353Z
LAST-MODIFIED:20260413T020353Z
UID:3962-1778495400-1778502600@slowfood.com.hk
SUMMARY:Slow Food Tour: Behind the Scenes at HK heritage sauce makers Pat Chun
DESCRIPTION:Join us for an exclusive tour of Pat Chun\, one of Hong Kong’s last modern heritage sauce and traditional food producers. For three generations\, this family-run producer has upheld the art of traditional foods\, most famously their sweet vinegar\, a staple for Chinese postpartum care. While many modern food brands rely on industrial additives\, all Pat Chun’s products\, from vinegars to soy sauce\, to festive foods like mooncakes and Chinese New Year cakes\, are all made using clean\, simple ingredients and no unnecessary additives. Today\, time-honored recipes meet precision engineering in a modern facility in Tseung Kwan O that innovates to preserve tradition and embrace safety and consistency. \nLed by Pat Chun’s Managing Director Trevor Ng\, this rare experience offers chefs\, hospitality professionals\, and serious food aficionados an up-close look at how authentic sweet vinegar\, soy sauce\, and foods are still crafted in Hong Kong. Discover the craftsmanship behind each batch\, explore the blend of old-world wisdom and modern systems\, and taste the difference integrity makes. \nGiven the nature of the tour\, spaces are extremely limited\, book now! \nDate: Monday\, 11 May \, 2026\, 10:30am-12:30pm \nAddress: Pat Chun Building\, 18 Chun Wang Street\, Tseung Kwan O Industrial Estate\, New Territories\, Hong Kong. (Please make your own way there.)
URL:https://slowfood.com.hk/event/slow-food-tour-behind-the-scenes-at-hk-heritage-sauce-makers-pat-chun/
CATEGORIES:Local Food Producer Visit
END:VEVENT
END:VCALENDAR